BEGIN:VCALENDAR
VERSION:2.0
PRODID:-//Squarespace Inc/Squarespace 6//v6//EN
BEGIN:VEVENT
UID:5e12c0e595a27273eba055da@squarespace.com
DTSTAMP:20200106T083230Z
DTSTART:20200215T160000Z
DTEND:20200215T180000Z
SUMMARY:Sat 15 February. PORTRAIT GROUP
END:VEVENT
END:VCALENDAR
