BEGIN:VCALENDAR
VERSION:2.0
PRODID:-//Squarespace Inc/Squarespace 6//v6//EN
BEGIN:VEVENT
UID:5d927b72058f831641a67437@squarespace.com
DTSTAMP:20190930T220415Z
DTSTART:20191116T160000Z
DTEND:20191116T180000Z
SUMMARY:Sat 16 Nov: PORTRAIT GROUP
END:VEVENT
END:VCALENDAR
