BEGIN:VCALENDAR
VERSION:2.0
PRODID:-//Squarespace Inc/Squarespace 6//v6//EN
BEGIN:VEVENT
UID:5d82cdf73972c43f0ddde2b5@squarespace.com
DTSTAMP:20191008T081955Z
DTSTART:20191019T150000Z
DTEND:20191019T170000Z
SUMMARY:Sat 19 Oct: PORTRAIT GROUP
END:VEVENT
END:VCALENDAR
