BEGIN:VCALENDAR
VERSION:2.0
PRODID:-//Squarespace Inc/Squarespace 6//v6//EN
BEGIN:VEVENT
UID:5d58ea13047a080001a48151@squarespace.com
DTSTAMP:20190901T224338Z
DTSTART:20190921T150000Z
DTEND:20190921T170000Z
SUMMARY:Sat 21 Sept: PORTRAIT GROUP
END:VEVENT
END:VCALENDAR
