BEGIN:VCALENDAR
VERSION:2.0
PRODID:-//Squarespace Inc/Squarespace 6//v6//EN
BEGIN:VEVENT
UID:5d82ce7e1010f46908b5a92f@squarespace.com
DTSTAMP:20190930T212546Z
DTSTART:20191024T230000Z
DTEND:20191025T010000Z
SUMMARY:Thur 24 Oct: FOCUS GROUP: Travel photography
END:VEVENT
END:VCALENDAR
