BEGIN:VCALENDAR
VERSION:2.0
PRODID:-//Squarespace Inc/Squarespace 6//v6//EN
BEGIN:VEVENT
UID:5d58f117b0959d000199eecb@squarespace.com
DTSTAMP:20190915T044519Z
DTSTART:20190926T230000Z
DTEND:20190927T010000Z
SUMMARY:Thur 26 Sept: FOCUS GROUP: Social documentary photography
END:VEVENT
END:VCALENDAR
