BEGIN:VCALENDAR
VERSION:2.0
PRODID:-//Squarespace Inc/Squarespace 6//v6//EN
BEGIN:VEVENT
UID:5d6c4bf9426fc00001590be2@squarespace.com
DTSTAMP:20190919T003125Z
DTSTART:20190929T110000Z
DTEND:20190929T150000Z
SUMMARY:Sun 29 Sept: Annual Hunt &amp\; Shoot (also Sept QCG PHOTOSHOOT)
END:VEVENT
END:VCALENDAR
