BEGIN:VCALENDAR
VERSION:2.0
PRODID:-//Squarespace Inc/Squarespace 6//v6//EN
BEGIN:VEVENT
UID:5d927c8c0e0e632e6c4cbd1f@squarespace.com
DTSTAMP:20191002T073935Z
DTSTART:20191206T003000Z
DTEND:20191206T023000Z
SUMMARY:Thur 5 Dec: GUEST SPEAKER: Stef Dunn\, Master of Photography
END:VEVENT
END:VCALENDAR
