BEGIN:VCALENDAR
VERSION:2.0
PRODID:-//Squarespace Inc/Squarespace 6//v6//EN
BEGIN:VEVENT
UID:5e12c077c3a00011217fb36b@squarespace.com
DTSTAMP:20200106T083440Z
DTSTART:20200604T233000Z
DTEND:20200605T013000Z
SUMMARY:Thur 4 June. GUEST SPEAKER
END:VEVENT
END:VCALENDAR
