BEGIN:VCALENDAR
VERSION:2.0
PRODID:-//Squarespace Inc/Squarespace 6//v6//EN
BEGIN:VEVENT
UID:5e12c02985478a352856e4ec@squarespace.com
DTSTAMP:20200106T084719Z
DTSTART:20200507T233000Z
DTEND:20200508T013000Z
SUMMARY:Thur 7 May. GUEST SPEAKER
END:VEVENT
END:VCALENDAR
