BEGIN:VCALENDAR
VERSION:2.0
PRODID:-//Squarespace Inc/Squarespace 6//v6//EN
BEGIN:VEVENT
UID:5e12bfa510a69061a71663d4@squarespace.com
DTSTAMP:20200106T083329Z
DTSTART:20200402T233000Z
DTEND:20200403T013000Z
SUMMARY:Thur 2 April. GUEST SPEAKER
END:VEVENT
END:VCALENDAR
