BEGIN:VCALENDAR
VERSION:2.0
PRODID:-//Squarespace Inc/Squarespace 6//v6//EN
BEGIN:VEVENT
UID:5e12bed9c3a00011217f836e@squarespace.com
DTSTAMP:20200106T083249Z
DTSTART:20200306T003000Z
DTEND:20200306T023000Z
SUMMARY:Thur 5 March. GUEST SPEAKER
END:VEVENT
END:VCALENDAR
