BEGIN:VCALENDAR
VERSION:2.0
PRODID:-//Squarespace Inc/Squarespace 6//v6//EN
BEGIN:VEVENT
UID:5e12b6fb62ad5d43f3d6b35a@squarespace.com
DTSTAMP:20200106T083213Z
DTSTART:20200207T003000Z
DTEND:20200207T023000Z
SUMMARY:Thur 6 February. GUEST SPEAKER: Danielle Lancaster\, Bluedog Photog
 raphy
END:VEVENT
END:VCALENDAR
