BEGIN:VCALENDAR
VERSION:2.0
PRODID:-//Squarespace Inc/Squarespace 6//v6//EN
BEGIN:VEVENT
UID:5d5209e385f42b000113993e@squarespace.com
DTSTAMP:20190901T225925Z
DTSTART:20190905T233000Z
DTEND:20190906T013000Z
SUMMARY:Thur 5 Sept: GUEST SPEAKER: New technology in photographic equipmen
 t
END:VEVENT
END:VCALENDAR
