BEGIN:VCALENDAR
VERSION:2.0
PRODID:-//Squarespace Inc/Squarespace 6//v6//EN
BEGIN:VEVENT
UID:5e12b40e88456a2a6f7377da@squarespace.com
DTSTAMP:20200106T042135Z
DTSTART:20200625T230000Z
DTEND:20200626T010000Z
SUMMARY:Thur 25 June. FOCUS GROUP
END:VEVENT
END:VCALENDAR
