BEGIN:VCALENDAR
VERSION:2.0
PRODID:-//Squarespace Inc/Squarespace 6//v6//EN
BEGIN:VEVENT
UID:5e12b39662ad5d43f3d648a1@squarespace.com
DTSTAMP:20200106T041325Z
DTSTART:20200528T230000Z
DTEND:20200529T010000Z
SUMMARY:Thur 28 May. FOCUS GROUP
END:VEVENT
END:VCALENDAR
