BEGIN:VCALENDAR
VERSION:2.0
PRODID:-//Squarespace Inc/Squarespace 6//v6//EN
BEGIN:VEVENT
UID:5e12b308a2cf815a659254d8@squarespace.com
DTSTAMP:20200210T065957Z
DTSTART:20200423T230000Z
DTEND:20200424T010000Z
SUMMARY:Thur 23 April. FOCUS GROUP: Portrait post-processing
END:VEVENT
END:VCALENDAR
