BEGIN:VCALENDAR
VERSION:2.0
PRODID:-//Squarespace Inc/Squarespace 6//v6//EN
BEGIN:VEVENT
UID:5e12b23fdbd43712f42c79e6@squarespace.com
DTSTAMP:20200106T082911Z
DTSTART:20200326T230000Z
DTEND:20200327T010000Z
SUMMARY:Thur 26 March. FOCUS GROUP
END:VEVENT
END:VCALENDAR
