BEGIN:VCALENDAR
VERSION:2.0
PRODID:-//Squarespace Inc/Squarespace 6//v6//EN
BEGIN:VEVENT
UID:5e12af2e95a27273eb9e0a09@squarespace.com
DTSTAMP:20200106T082125Z
DTSTART:20200228T000000Z
DTEND:20200228T020000Z
SUMMARY:Thur 27 February. FOCUS GROUP: 2020 Print Project mentoring session 
 with Stef Dunn
END:VEVENT
END:VCALENDAR
