BEGIN:VCALENDAR
VERSION:2.0
PRODID:-//Squarespace Inc/Squarespace 6//v6//EN
BEGIN:VEVENT
UID:5e12acaf749ef14481f6a70a@squarespace.com
DTSTAMP:20200106T042052Z
DTSTART:20200131T000000Z
DTEND:20200131T020000Z
SUMMARY:Thur 30 January. FOCUS GROUP: Training for uploading online competi
 tion entries
END:VEVENT
END:VCALENDAR
