BEGIN:VCALENDAR
VERSION:2.0
PRODID:-//Squarespace Inc/Squarespace 6//v6//EN
BEGIN:VEVENT
UID:5e27d21af2fd0e4c3dea07b8@squarespace.com
DTSTAMP:20200210T065419Z
DTSTART:20200314T180000Z
DTEND:20200314T210000Z
SUMMARY:Sat 14 March. Double Header: Focus Group and Tri-Nations Judging
END:VEVENT
END:VCALENDAR
